BEGIN:VCALENDAR
VERSION:2.0
PRODID:-//ChamberMaster//Event Calendar 2.0//EN
METHOD:PUBLISH
X-PUBLISHED-TTL:P1H
REFRESH-INTERVAL:P1H
CALSCALE:GREGORIAN
BEGIN:VTIMEZONE
TZID:America/Chicago
BEGIN:DAYLIGHT
RRULE:FREQ=YEARLY;BYMONTH=3;BYDAY=2SU
DTSTART:20070101T000000
TZOFFSETFROM:-0600
TZOFFSETTO:-0500
TZNAME:Central Daylight Time
END:DAYLIGHT
BEGIN:STANDARD
RRULE:FREQ=YEARLY;BYMONTH=11;BYDAY=1SU
DTSTART:20070101T000000
TZOFFSETFROM:-0500
TZOFFSETTO:-0600
TZNAME:Central Standard Time
END:STANDARD
END:VTIMEZONE
BEGIN:VEVENT
DTSTART;TZID=America/Chicago:20260509T090000
DTEND;TZID=America/Chicago:20260509T140000
X-MICROSOFT-CDO-ALLDAYEVENT:FALSE
SUMMARY:First Household Hazardous Waste + Tire Collection of 2026
DESCRIPTION:Porter County Residents are welcome to come to our FREE collection events to dispose of your hazardous waste!\n\nProper disposal of hazardous waste is crucial to protecting public health and preserving the environment. Hazardous waste often includes materials that are flammable\, corrosive\, reactive\, or toxic. Examples include cleaning supplies\, oils\, chemicals\, and fertilizers\, which can pose significant risks if not handled correctly.\n\nIt's important not to dispose of these items in regular trash bins or down drains\, as they can contaminate water sources and harm wildlife.\n\nCheck out portercountyrecycling.org to find the full list of accepted items.
X-ALT-DESC;FMTTYPE=text/html:Porter County Residents are welcome to come to our FREE collection events to dispose of your hazardous waste!\n\nProper disposal of hazardous waste is crucial to protecting public health and preserving the environment. Hazardous waste often includes materials that are flammable\, corrosive\, reactive\, or toxic. Examples include cleaning supplies\, oils\, chemicals\, and fertilizers\, which can pose significant risks if not handled correctly.\n\nIt's important not to dispose of these items in regular trash bins or down drains\, as they can contaminate water sources and harm wildlife.\n\nCheck out portercountyrecycling.org to find the full list of accepted items.
LOCATION:215 E. Division Road Valparaiso IN 46383
UID:e.4189.1447339
SEQUENCE:3
DTSTAMP:20260422T022722Z
URL:https://business.dunelandchamber.org/event-calendar/Details/first-household-hazardous-waste-tire-collection-of-2026-1714272?sourceTypeId=Hub
END:VEVENT
END:VCALENDAR
