BEGIN:VCALENDAR
VERSION:2.0
PRODID:-//ChamberMaster//Event Calendar 2.0//EN
METHOD:PUBLISH
X-PUBLISHED-TTL:P1H
REFRESH-INTERVAL:P1H
CALSCALE:GREGORIAN
BEGIN:VTIMEZONE
TZID:America/Chicago
BEGIN:DAYLIGHT
RRULE:FREQ=YEARLY;BYMONTH=3;BYDAY=2SU
DTSTART:20070101T000000
TZOFFSETFROM:-0600
TZOFFSETTO:-0500
TZNAME:Central Daylight Time
END:DAYLIGHT
BEGIN:STANDARD
RRULE:FREQ=YEARLY;BYMONTH=11;BYDAY=1SU
DTSTART:20070101T000000
TZOFFSETFROM:-0500
TZOFFSETTO:-0600
TZNAME:Central Standard Time
END:STANDARD
END:VTIMEZONE
BEGIN:VEVENT
DTSTART;TZID=America/Chicago:20260503T113000
DTEND;TZID=America/Chicago:20260503T130000
X-MICROSOFT-CDO-ALLDAYEVENT:FALSE
SUMMARY:Free Commuinty Brunch
DESCRIPTION:In honor of mothers\, let us begin their special day with a delightful meal.\n The main dish will feature Baked Ham accompanied by Au Gratin Potatoes. \nSides will include Steamed Vegetables\, Applesauce\, Spinach\, Strawberry Salad\, & Dinner Rolls with Butter. \nFor dessert\, guests can enjoy Pineapple Upside Down Cake\, Lemon Bars\, & Brownies. \nTo complement the meal\, we will offer Juice & Coffee.
X-ALT-DESC;FMTTYPE=text/html:<!DOCTYPE html><html><head><title></title></head><body aria-disabled="false"><p style="color: rgba(13\,6\,8\,var(--O42jJQ\,1))\; caret-color: rgb(13\, 6\, 8)\; --8sD0Kg: none\; font-family: YAFdJtfMD6Y_0\, _fb_\, auto\; --cyV3ZQ: 28.3319px\; --gJPlXQ: 1.4\; letter-spacing: 0.084em\; text-transform: none\; --s8NbEA: p\; line-height: 39px\;"><span style="color: rgba(13\,6\,8\,var(--O42jJQ\,1))\; caret-color: rgb(13\, 6\, 8)\; --Ys-XuQ: none\; font-weight: 400\; font-style: normal\; font-kerning: normal\;">In honor of mothers\, let us begin their special day with a delightful meal.</span></p><p style="color: rgba(13\,6\,8\,var(--O42jJQ\,1))\; caret-color: rgb(13\, 6\, 8)\; --8sD0Kg: none\; font-family: YAFdJtfMD6Y_0\, _fb_\, auto\; --cyV3ZQ: 12px\; --gJPlXQ: 1.4\; letter-spacing: 0.084em\; text-transform: uppercase\; --s8NbEA: p\; line-height: 16px\;"><br></p><p style="color: rgba(13\,6\,8\,var(--O42jJQ\,1))\; caret-color: rgb(13\, 6\, 8)\; --8sD0Kg: none\; font-family: YAFdJtfMD6Y_0\, _fb_\, auto\; --cyV3ZQ: 28.3319px\; --gJPlXQ: 1.4\; letter-spacing: 0.084em\; text-transform: none\; --s8NbEA: p\; line-height: 39px\;"><span style="color: rgba(13\,6\,8\,var(--O42jJQ\,1))\; caret-color: rgb(13\, 6\, 8)\; --Ys-XuQ: none\; font-weight: 400\; font-style: normal\; font-kerning: normal\;">&nbsp\;</span><span style="color: rgba(13\,6\,8\,var(--O42jJQ\,1))\; caret-color: rgb(13\, 6\, 8)\; --Ys-XuQ: none\; font-weight: 400\; font-style: normal\; font-kerning: normal\;">The main dish will feature&nbsp\;</span><span style="color: rgba(13\,6\,8\,var(--O42jJQ\,1))\; caret-color: rgb(13\, 6\, 8)\; --Ys-XuQ: none\; font-weight: 600\; font-style: normal\; font-kerning: normal\;">Baked Ham</span><span style="color: rgba(13\,6\,8\,var(--O42jJQ\,1))\; caret-color: rgb(13\, 6\, 8)\; --Ys-XuQ: none\; font-weight: 400\; font-style: normal\; font-kerning: normal\;">&nbsp\;accompanied by&nbsp\;</span><span style="color: rgba(13\,6\,8\,var(--O42jJQ\,1))\; caret-color: rgb(13\, 6\, 8)\; --Ys-XuQ: none\; font-weight: 600\; font-style: normal\; font-kerning: normal\;">Au Gratin Potatoes</span><span style="color: rgba(13\,6\,8\,var(--O42jJQ\,1))\; caret-color: rgb(13\, 6\, 8)\; --Ys-XuQ: none\; font-weight: 400\; font-style: normal\; font-kerning: normal\;">.</span><span style="color: rgba(13\,6\,8\,var(--O42jJQ\,1))\; caret-color: rgb(13\, 6\, 8)\; --Ys-XuQ: none\; font-weight: 400\; font-style: normal\; font-kerning: normal\;">&nbsp\;</span></p><p style="color: rgba(13\,6\,8\,var(--O42jJQ\,1))\; caret-color: rgb(13\, 6\, 8)\; --8sD0Kg: none\; font-family: YAFdJtfMD6Y_0\, _fb_\, auto\; --cyV3ZQ: 12px\; --gJPlXQ: 1.4\; letter-spacing: 0.084em\; text-transform: none\; --s8NbEA: p\; line-height: 16px\;"><br></p><p style="color: rgba(13\,6\,8\,var(--O42jJQ\,1))\; caret-color: rgb(13\, 6\, 8)\; --8sD0Kg: none\; font-family: YAFdJtfMD6Y_0\, _fb_\, auto\; --cyV3ZQ: 28.3319px\; --gJPlXQ: 1.4\; letter-spacing: 0.084em\; text-transform: none\; --s8NbEA: p\; line-height: 39px\;"><span style="color: rgba(13\,6\,8\,var(--O42jJQ\,1))\; caret-color: rgb(13\, 6\, 8)\; --Ys-XuQ: none\; font-weight: 400\; font-style: normal\; font-kerning: normal\;">Sides will include&nbsp\;</span><span style="color: rgba(13\,6\,8\,var(--O42jJQ\,1))\; caret-color: rgb(13\, 6\, 8)\; --Ys-XuQ: none\; font-weight: 600\; font-style: normal\; font-kerning: normal\;">Steamed Vegetables\, Applesauce\,</span><span style="color: rgba(13\,6\,8\,var(--O42jJQ\,1))\; caret-color: rgb(13\, 6\, 8)\; --Ys-XuQ: none\; font-weight: 400\; font-style: normal\; font-kerning: normal\;">&nbsp\;</span><span style="color: rgba(13\,6\,8\,var(--O42jJQ\,1))\; caret-color: rgb(13\, 6\, 8)\; --Ys-XuQ: none\; font-weight: 600\; font-style: normal\; font-kerning: normal\;">Spinach\, Strawberry Salad\, &amp\; Dinner Rolls with Butter.</span><span style="color: rgba(13\,6\,8\,var(--O42jJQ\,1))\; caret-color: rgb(13\, 6\, 8)\; --Ys-XuQ: none\; font-weight: 600\; font-style: normal\; font-kerning: normal\;">&nbsp\;</span></p><p style="color: rgba(13\,6\,8\,var(--O42jJQ\,1))\; caret-color: rgb(13\, 6\, 8)\; --8sD0Kg: none\; font-family: YAFdJtfMD6Y_0\, _fb_\, auto\; --cyV3ZQ: 12px\; --gJPlXQ: 1.4\; letter-spacing: 0.084em\; text-transform: none\; --s8NbEA: p\; line-height: 16px\;"><br></p><p style="color: rgba(13\,6\,8\,var(--O42jJQ\,1))\; caret-color: rgb(13\, 6\, 8)\; --8sD0Kg: none\; font-family: YAFdJtfMD6Y_0\, _fb_\, auto\; --cyV3ZQ: 28.3319px\; --gJPlXQ: 1.4\; letter-spacing: 0.084em\; text-transform: none\; --s8NbEA: p\; line-height: 39px\;"><span style="color: rgba(13\,6\,8\,var(--O42jJQ\,1))\; caret-color: rgb(13\, 6\, 8)\; --Ys-XuQ: none\; font-weight: 400\; font-style: normal\; font-kerning: normal\;">For dessert\, guests can enjoy&nbsp\;</span><span style="color: rgba(13\,6\,8\,var(--O42jJQ\,1))\; caret-color: rgb(13\, 6\, 8)\; --Ys-XuQ: none\; font-weight: 600\; font-style: normal\; font-kerning: normal\;">Pineapple Upside Down Cake\, Lemon Bars\, &amp\; Brownies</span><span style="color: rgba(13\,6\,8\,var(--O42jJQ\,1))\; caret-color: rgb(13\, 6\, 8)\; --Ys-XuQ: none\; font-weight: 400\; font-style: normal\; font-kerning: normal\;">.</span><span style="color: rgba(13\,6\,8\,var(--O42jJQ\,1))\; caret-color: rgb(13\, 6\, 8)\; --Ys-XuQ: none\; font-weight: 400\; font-style: normal\; font-kerning: normal\;">&nbsp\;</span></p><p style="color: rgba(13\,6\,8\,var(--O42jJQ\,1))\; caret-color: rgb(13\, 6\, 8)\; --8sD0Kg: none\; font-family: YAFdJtfMD6Y_0\, _fb_\, auto\; --cyV3ZQ: 12px\; --gJPlXQ: 1.4\; letter-spacing: 0.084em\; text-transform: none\; --s8NbEA: p\; line-height: 16px\;"><br></p><p style="color: rgba(13\,6\,8\,var(--O42jJQ\,1))\; caret-color: rgb(13\, 6\, 8)\; --8sD0Kg: none\; font-family: YAFdJtfMD6Y_0\, _fb_\, auto\; --cyV3ZQ: 28.3319px\; --gJPlXQ: 1.4\; letter-spacing: 0.084em\; text-transform: none\; --s8NbEA: p\; line-height: 39px\;"><span style="color: rgba(13\,6\,8\,var(--O42jJQ\,1))\; caret-color: rgb(13\, 6\, 8)\; --Ys-XuQ: none\; font-weight: 400\; font-style: normal\; font-kerning: normal\;">To complement the meal\, we will offer&nbsp\;</span><span style="color: rgba(13\,6\,8\,var(--O42jJQ\,1))\; caret-color: rgb(13\, 6\, 8)\; --Ys-XuQ: none\; font-weight: 600\; font-style: normal\; font-kerning: normal\;">Juice &amp\; Coffee.</span></p></body></html>
LOCATION:
UID:e.4189.1447103
SEQUENCE:3
DTSTAMP:20260422T023005Z
URL:https://business.dunelandchamber.org/event-calendar/Details/free-commuinty-brunch-1713920?sourceTypeId=Hub
END:VEVENT
END:VCALENDAR
